BEGIN:VCALENDAR
VERSION:2.0
PRODID:PHP
METHOD:REQUEST
X-ORIGINAL-URL:http://www.ntfv.de/liga-nord-west-155/tabellen-a-ligaspiele?task=team_begegnungen_ical&id=1198
X-WR-CALNAME;VALUE=TEXT:KCO Oldenburg 1
BEGIN:VEVENT
CLASS:PUBLIC
DTSTART:20240131T190000Z
DURATION:PT2H30M
STATUS:CONFIRMED
SUMMARY:KCO Oldenburg 1 vs. Liek ut Etzel
DESCRIPTION:Verbandsliga Nord-West (1. Runde)\nErgebnis: 9:3 (9:3)
LOCATION:Trainingsraum des KC Olympic Oldenburg, Bleicherstraße 12, 26122 Oldenburg
UID:SM-B8813@www.ntfv.de
PRIORITY:5
SEQUENCE:1
CATEGORIES:SPORT
DTSTAMP:20260421T212126
BEGIN:VALARM
ACTION:DISPLAY
TRIGGER:-PT2H
END:VALARM
END:VEVENT
BEGIN:VEVENT
CLASS:PUBLIC
DTSTART:20240208T190000Z
DURATION:PT2H30M
STATUS:CONFIRMED
SUMMARY:KC Gehlenberg 1 vs. KCO Oldenburg 1
DESCRIPTION:Verbandsliga Nord-West (2. Runde)\nErgebnis: 10:4 (10:4)
LOCATION:Trainingsraum des KC Gehlenberg, Altenend 98, 26169 Neuvrees
UID:SM-B8817@www.ntfv.de
PRIORITY:5
SEQUENCE:1
CATEGORIES:SPORT
DTSTAMP:20260421T212126
BEGIN:VALARM
ACTION:DISPLAY
TRIGGER:-PT2H
END:VALARM
END:VEVENT
BEGIN:VEVENT
CLASS:PUBLIC
DTSTART:20240228T190000Z
DURATION:PT2H30M
STATUS:CONFIRMED
SUMMARY:KCO Oldenburg 2 vs. KCO Oldenburg 1
DESCRIPTION:Verbandsliga Nord-West (3. Runde)\nErgebnis: 9:5 (9:5)
LOCATION:Trainingsraum des KC Olympic Oldenburg, Bleicherstraße 12, 26122 Oldenburg
UID:SM-B8819@www.ntfv.de
PRIORITY:5
SEQUENCE:1
CATEGORIES:SPORT
DTSTAMP:20260421T212126
BEGIN:VALARM
ACTION:DISPLAY
TRIGGER:-PT2H
END:VALARM
END:VEVENT
BEGIN:VEVENT
CLASS:PUBLIC
DTSTART:20240306T190000Z
DURATION:PT2H30M
STATUS:CONFIRMED
SUMMARY:KCO Oldenburg 1 vs. KC Gehlenberg 2
DESCRIPTION:Verbandsliga Nord-West (4. Runde)\nErgebnis: 6:10 (6:10)
LOCATION:Trainingsraum des KC Olympic Oldenburg, Bleicherstraße 12, 26122 Oldenburg
UID:SM-B8824@www.ntfv.de
PRIORITY:5
SEQUENCE:1
CATEGORIES:SPORT
DTSTAMP:20260421T212126
BEGIN:VALARM
ACTION:DISPLAY
TRIGGER:-PT2H
END:VALARM
END:VEVENT
BEGIN:VEVENT
CLASS:PUBLIC
DTSTART:20240403T180000Z
DURATION:PT2H30M
STATUS:CONFIRMED
SUMMARY:TFC Devils Oldenburg 1 vs. KCO Oldenburg 1
DESCRIPTION:Verbandsliga Nord-West (6. Runde)\nErgebnis: 9:2 (9:2)
LOCATION:Trainingsraum der Devils Oldenburg, Abraham 13, 26122 Oldenburg
UID:SM-B8828@www.ntfv.de
PRIORITY:5
SEQUENCE:1
CATEGORIES:SPORT
DTSTAMP:20260421T212126
BEGIN:VALARM
ACTION:DISPLAY
TRIGGER:-PT2H
END:VALARM
END:VEVENT
BEGIN:VEVENT
CLASS:PUBLIC
DTSTART:20240410T180000Z
DURATION:PT2H30M
STATUS:CONFIRMED
SUMMARY:TFC Devils Oldenburg 2 vs. KCO Oldenburg 1
DESCRIPTION:Verbandsliga Nord-West (5. Runde)\nErgebnis: 9:5 (9:5)
LOCATION:Trainingsraum der Devils Oldenburg, Abraham 13, 26122 Oldenburg
UID:SM-B8826@www.ntfv.de
PRIORITY:5
SEQUENCE:1
CATEGORIES:SPORT
DTSTAMP:20260421T212126
BEGIN:VALARM
ACTION:DISPLAY
TRIGGER:-PT2H
END:VALARM
END:VEVENT
BEGIN:VEVENT
CLASS:PUBLIC
DTSTART:20240423T180000Z
DURATION:PT2H30M
STATUS:CONFIRMED
SUMMARY:Liek ut Etzel vs. KCO Oldenburg 1
DESCRIPTION:Verbandsliga Nord-West (8. Runde)\nErgebnis: 4:10 (4:10)
LOCATION:Schützenverein Etzel, Albertus-Seba-Straße 11, 26446 Friedeburg
UID:SM-B8836@www.ntfv.de
PRIORITY:5
SEQUENCE:1
CATEGORIES:SPORT
DTSTAMP:20260421T212126
BEGIN:VALARM
ACTION:DISPLAY
TRIGGER:-PT2H
END:VALARM
END:VEVENT
BEGIN:VEVENT
CLASS:PUBLIC
DTSTART:20240508T180000Z
DURATION:PT2H30M
STATUS:CONFIRMED
SUMMARY:KCO Oldenburg 1 vs. KC Gehlenberg 1
DESCRIPTION:Verbandsliga Nord-West (9. Runde)\nErgebnis: 10:0 (10:0)
LOCATION:Trainingsraum des KC Olympic Oldenburg, Bleicherstraße 12, 26122 Oldenburg
UID:SM-B8837@www.ntfv.de
PRIORITY:5
SEQUENCE:1
CATEGORIES:SPORT
DTSTAMP:20260421T212126
BEGIN:VALARM
ACTION:DISPLAY
TRIGGER:-PT2H
END:VALARM
END:VEVENT
BEGIN:VEVENT
CLASS:PUBLIC
DTSTART:20240522T180000Z
DURATION:PT2H30M
STATUS:CONFIRMED
SUMMARY:KCO Oldenburg 1 vs. KCO Oldenburg 2
DESCRIPTION:Verbandsliga Nord-West (10. Runde)\nErgebnis: 5:9 (5:9)
LOCATION:Trainingsraum des KC Olympic Oldenburg, Bleicherstraße 12, 26122 Oldenburg
UID:SM-B8840@www.ntfv.de
PRIORITY:5
SEQUENCE:1
CATEGORIES:SPORT
DTSTAMP:20260421T212126
BEGIN:VALARM
ACTION:DISPLAY
TRIGGER:-PT2H
END:VALARM
END:VEVENT
BEGIN:VEVENT
CLASS:PUBLIC
DTSTART:20240530T180000Z
DURATION:PT2H30M
STATUS:CONFIRMED
SUMMARY:KC Gehlenberg 2 vs. KCO Oldenburg 1
DESCRIPTION:Verbandsliga Nord-West (11. Runde)\nErgebnis: 6:10 (6:10)
LOCATION:Trainingsraum des KC Gehlenberg, Altenend 98, 26169 Neuvrees
UID:SM-B8845@www.ntfv.de
PRIORITY:5
SEQUENCE:1
CATEGORIES:SPORT
DTSTAMP:20260421T212126
BEGIN:VALARM
ACTION:DISPLAY
TRIGGER:-PT2H
END:VALARM
END:VEVENT
BEGIN:VEVENT
CLASS:PUBLIC
DTSTART:20240626T180000Z
DURATION:PT2H30M
STATUS:CONFIRMED
SUMMARY:KCO Oldenburg 1 vs. TFC Devils Oldenburg 1
DESCRIPTION:Verbandsliga Nord-West (13. Runde)\nErgebnis: 2:9 (2:9)
LOCATION:Trainingsraum des KC Olympic Oldenburg, Bleicherstraße 12, 26122 Oldenburg
UID:SM-B8849@www.ntfv.de
PRIORITY:5
SEQUENCE:1
CATEGORIES:SPORT
DTSTAMP:20260421T212126
BEGIN:VALARM
ACTION:DISPLAY
TRIGGER:-PT2H
END:VALARM
END:VEVENT
BEGIN:VEVENT
CLASS:PUBLIC
DTSTART:20240710T180000Z
DURATION:PT2H30M
STATUS:CONFIRMED
SUMMARY:KCO Oldenburg 1 vs. TFC Devils Oldenburg 2
DESCRIPTION:Verbandsliga Nord-West (12. Runde)\nErgebnis: 5:9 (5:9)
LOCATION:Trainingsraum des KC Olympic Oldenburg, Bleicherstraße 12, 26122 Oldenburg
UID:SM-B8847@www.ntfv.de
PRIORITY:5
SEQUENCE:1
CATEGORIES:SPORT
DTSTAMP:20260421T212126
BEGIN:VALARM
ACTION:DISPLAY
TRIGGER:-PT2H
END:VALARM
END:VEVENT
END:VCALENDAR
