BEGIN:VCALENDAR
VERSION:2.0
PRODID:PHP
METHOD:REQUEST
X-ORIGINAL-URL:http://www.ntfv.de/liga-nord-west-155/tabellen-a-ligaspiele?task=team_begegnungen_ical&id=1200
X-WR-CALNAME;VALUE=TEXT:Liek ut Etzel
BEGIN:VEVENT
CLASS:PUBLIC
DTSTART:20240131T190000Z
DURATION:PT2H30M
STATUS:CONFIRMED
SUMMARY:KCO Oldenburg 1 vs. Liek ut Etzel
DESCRIPTION:Verbandsliga Nord-West (1. Runde)\nErgebnis: 9:3 (9:3)
LOCATION:Trainingsraum des KC Olympic Oldenburg, Bleicherstraße 12, 26122 Oldenburg
UID:SM-B8813@www.ntfv.de
PRIORITY:5
SEQUENCE:1
CATEGORIES:SPORT
DTSTAMP:20260421T211340
END:VEVENT
BEGIN:VEVENT
CLASS:PUBLIC
DTSTART:20240206T190000Z
DURATION:PT2H30M
STATUS:CONFIRMED
SUMMARY:Liek ut Etzel vs. KCO Oldenburg 2
DESCRIPTION:Verbandsliga Nord-West (2. Runde)\nErgebnis: 3:9 (3:9)
LOCATION:Schützenverein Etzel, Albertus-Seba-Straße 11, 26446 Friedeburg
UID:SM-B8816@www.ntfv.de
PRIORITY:5
SEQUENCE:1
CATEGORIES:SPORT
DTSTAMP:20260421T211340
END:VEVENT
BEGIN:VEVENT
CLASS:PUBLIC
DTSTART:20240228T190000Z
DURATION:PT2H30M
STATUS:CONFIRMED
SUMMARY:TFC Devils Oldenburg 2 vs. Liek ut Etzel
DESCRIPTION:Verbandsliga Nord-West (3. Runde)\nErgebnis: 9:1 (9:1)
LOCATION:Trainingsraum der Devils Oldenburg, Abraham 13, 26122 Oldenburg
UID:SM-B8820@www.ntfv.de
PRIORITY:5
SEQUENCE:1
CATEGORIES:SPORT
DTSTAMP:20260421T211340
END:VEVENT
BEGIN:VEVENT
CLASS:PUBLIC
DTSTART:20240305T190000Z
DURATION:PT2H30M
STATUS:CONFIRMED
SUMMARY:Liek ut Etzel vs. KC Gehlenberg 1
DESCRIPTION:Verbandsliga Nord-West (4. Runde)\nErgebnis: 3:9 (3:9)
LOCATION:Schützenverein Etzel, Albertus-Seba-Straße 11, 26446 Friedeburg
UID:SM-B8822@www.ntfv.de
PRIORITY:5
SEQUENCE:1
CATEGORIES:SPORT
DTSTAMP:20260421T211340
END:VEVENT
BEGIN:VEVENT
CLASS:PUBLIC
DTSTART:20240405T180000Z
DURATION:PT2H30M
STATUS:CONFIRMED
SUMMARY:Liek ut Etzel vs. TFC Devils Oldenburg 1
DESCRIPTION:Verbandsliga Nord-West (5. Runde)\nErgebnis: 3:9 (3:9)
LOCATION:Schützenverein Etzel, Albertus-Seba-Straße 11, 26446 Friedeburg
UID:SM-B8825@www.ntfv.de
PRIORITY:5
SEQUENCE:1
CATEGORIES:SPORT
DTSTAMP:20260421T211340
END:VEVENT
BEGIN:VEVENT
CLASS:PUBLIC
DTSTART:20240416T180000Z
DURATION:PT2H30M
STATUS:CONFIRMED
SUMMARY:Liek ut Etzel vs. KC Gehlenberg 2
DESCRIPTION:Verbandsliga Nord-West (7. Runde)\nErgebnis: 7:9 (7:9)
LOCATION:Schützenverein Etzel, Albertus-Seba-Straße 11, 26446 Friedeburg
UID:SM-B8831@www.ntfv.de
PRIORITY:5
SEQUENCE:1
CATEGORIES:SPORT
DTSTAMP:20260421T211340
END:VEVENT
BEGIN:VEVENT
CLASS:PUBLIC
DTSTART:20240423T180000Z
DURATION:PT2H30M
STATUS:CONFIRMED
SUMMARY:Liek ut Etzel vs. KCO Oldenburg 1
DESCRIPTION:Verbandsliga Nord-West (8. Runde)\nErgebnis: 4:10 (4:10)
LOCATION:Schützenverein Etzel, Albertus-Seba-Straße 11, 26446 Friedeburg
UID:SM-B8836@www.ntfv.de
PRIORITY:5
SEQUENCE:1
CATEGORIES:SPORT
DTSTAMP:20260421T211340
END:VEVENT
BEGIN:VEVENT
CLASS:PUBLIC
DTSTART:20240514T180000Z
DURATION:PT2H30M
STATUS:CONFIRMED
SUMMARY:Liek ut Etzel vs. TFC Devils Oldenburg 2
DESCRIPTION:Verbandsliga Nord-West (10. Runde)\nErgebnis: 3:9 (3:9)
LOCATION:Schützenverein Etzel, Albertus-Seba-Straße 11, 26446 Friedeburg
UID:SM-B8842@www.ntfv.de
PRIORITY:5
SEQUENCE:1
CATEGORIES:SPORT
DTSTAMP:20260421T211340
END:VEVENT
BEGIN:VEVENT
CLASS:PUBLIC
DTSTART:20240521T180000Z
DURATION:PT2H30M
STATUS:CONFIRMED
SUMMARY:KCO Oldenburg 2 vs. Liek ut Etzel
DESCRIPTION:Verbandsliga Nord-West (9. Runde)\nErgebnis: 9:1 (9:1)
LOCATION:Trainingsraum des KC Olympic Oldenburg, Bleicherstraße 12, 26122 Oldenburg
UID:SM-B8839@www.ntfv.de
PRIORITY:5
SEQUENCE:1
CATEGORIES:SPORT
DTSTAMP:20260421T211340
END:VEVENT
BEGIN:VEVENT
CLASS:PUBLIC
DTSTART:20240530T180000Z
DURATION:PT2H30M
STATUS:CONFIRMED
SUMMARY:KC Gehlenberg 1 vs. Liek ut Etzel
DESCRIPTION:Verbandsliga Nord-West (11. Runde)\nErgebnis: 10:0 (10:0)
LOCATION:Trainingsraum des KC Gehlenberg, Altenend 98, 26169 Neuvrees
UID:SM-B8843@www.ntfv.de
PRIORITY:5
SEQUENCE:1
CATEGORIES:SPORT
DTSTAMP:20260421T211340
END:VEVENT
BEGIN:VEVENT
CLASS:PUBLIC
DTSTART:20240613T180000Z
DURATION:PT2H30M
STATUS:CONFIRMED
SUMMARY:TFC Devils Oldenburg 1 vs. Liek ut Etzel
DESCRIPTION:Verbandsliga Nord-West (12. Runde)\nErgebnis: 9:5 (9:5)
LOCATION:Trainingsraum der Devils Oldenburg, Abraham 13, 26122 Oldenburg
UID:SM-B8846@www.ntfv.de
PRIORITY:5
SEQUENCE:1
CATEGORIES:SPORT
DTSTAMP:20260421T211340
END:VEVENT
BEGIN:VEVENT
CLASS:PUBLIC
DTSTART:20240704T180000Z
DURATION:PT2H30M
STATUS:CONFIRMED
SUMMARY:KC Gehlenberg 2 vs. Liek ut Etzel
DESCRIPTION:Verbandsliga Nord-West (14. Runde)\nErgebnis: 10:0 (10:0)
LOCATION:Trainingsraum des KC Gehlenberg, Altenend 98, 26169 Neuvrees
UID:SM-B8854@www.ntfv.de
PRIORITY:5
SEQUENCE:1
CATEGORIES:SPORT
DTSTAMP:20260421T211340
END:VEVENT
END:VCALENDAR
