BEGIN:VCALENDAR
VERSION:2.0
PRODID:PHP
METHOD:REQUEST
X-ORIGINAL-URL:http://www.ntfv.de/liga-nord-west-155/tabellen-a-ligaspiele?task=team_begegnungen_ical&id=1207
X-WR-CALNAME;VALUE=TEXT:TFC Devils Oldenburg 1
BEGIN:VEVENT
CLASS:PUBLIC
DTSTART:20240208T190000Z
DURATION:PT2H30M
STATUS:CONFIRMED
SUMMARY:KC Gehlenberg 2 vs. TFC Devils Oldenburg 1
DESCRIPTION:Verbandsliga Nord-West (2. Runde)\nErgebnis: 3:9 (3:9)
LOCATION:Trainingsraum des KC Gehlenberg, Altenend 98, 26169 Neuvrees
UID:SM-B8818@www.ntfv.de
PRIORITY:5
SEQUENCE:1
CATEGORIES:SPORT
DTSTAMP:20260421T211408
END:VEVENT
BEGIN:VEVENT
CLASS:PUBLIC
DTSTART:20240222T190000Z
DURATION:PT2H30M
STATUS:CONFIRMED
SUMMARY:KC Gehlenberg 1 vs. TFC Devils Oldenburg 1
DESCRIPTION:Verbandsliga Nord-West (3. Runde)\nErgebnis: 5:9 (5:9)
LOCATION:Trainingsraum des KC Gehlenberg, Altenend 98, 26169 Neuvrees
UID:SM-B8821@www.ntfv.de
PRIORITY:5
SEQUENCE:1
CATEGORIES:SPORT
DTSTAMP:20260421T211408
END:VEVENT
BEGIN:VEVENT
CLASS:PUBLIC
DTSTART:20240327T190000Z
DURATION:PT2H30M
STATUS:CONFIRMED
SUMMARY:TFC Devils Oldenburg 1 vs. TFC Devils Oldenburg 2
DESCRIPTION:Verbandsliga Nord-West (4. Runde)\nErgebnis: 8:8 (8:8)
LOCATION:Trainingsraum der Devils Oldenburg, Abraham 13, 26122 Oldenburg
UID:SM-B8823@www.ntfv.de
PRIORITY:5
SEQUENCE:1
CATEGORIES:SPORT
DTSTAMP:20260421T211408
END:VEVENT
BEGIN:VEVENT
CLASS:PUBLIC
DTSTART:20240403T180000Z
DURATION:PT2H30M
STATUS:CONFIRMED
SUMMARY:TFC Devils Oldenburg 1 vs. KCO Oldenburg 1
DESCRIPTION:Verbandsliga Nord-West (6. Runde)\nErgebnis: 9:2 (9:2)
LOCATION:Trainingsraum der Devils Oldenburg, Abraham 13, 26122 Oldenburg
UID:SM-B8828@www.ntfv.de
PRIORITY:5
SEQUENCE:1
CATEGORIES:SPORT
DTSTAMP:20260421T211408
END:VEVENT
BEGIN:VEVENT
CLASS:PUBLIC
DTSTART:20240405T180000Z
DURATION:PT2H30M
STATUS:CONFIRMED
SUMMARY:Liek ut Etzel vs. TFC Devils Oldenburg 1
DESCRIPTION:Verbandsliga Nord-West (5. Runde)\nErgebnis: 3:9 (3:9)
LOCATION:Schützenverein Etzel, Albertus-Seba-Straße 11, 26446 Friedeburg
UID:SM-B8825@www.ntfv.de
PRIORITY:5
SEQUENCE:1
CATEGORIES:SPORT
DTSTAMP:20260421T211408
END:VEVENT
BEGIN:VEVENT
CLASS:PUBLIC
DTSTART:20240424T170000Z
DURATION:PT2H30M
STATUS:CONFIRMED
SUMMARY:KCO Oldenburg 2 vs. TFC Devils Oldenburg 1
DESCRIPTION:Verbandsliga Nord-West (7. Runde)\nErgebnis: 1:9 (1:9)
LOCATION:Trainingsraum des KC Olympic Oldenburg, Bleicherstraße 12, 26122 Oldenburg
UID:SM-B8833@www.ntfv.de
PRIORITY:5
SEQUENCE:1
CATEGORIES:SPORT
DTSTAMP:20260421T211408
END:VEVENT
BEGIN:VEVENT
CLASS:PUBLIC
DTSTART:20240515T180000Z
DURATION:PT2H30M
STATUS:CONFIRMED
SUMMARY:TFC Devils Oldenburg 1 vs. KC Gehlenberg 1
DESCRIPTION:Verbandsliga Nord-West (10. Runde)\nErgebnis: 10:0 (10:0)
LOCATION:Trainingsraum der Devils Oldenburg, Abraham 13, 26122 Oldenburg
UID:SM-B8841@www.ntfv.de
PRIORITY:5
SEQUENCE:1
CATEGORIES:SPORT
DTSTAMP:20260421T211408
END:VEVENT
BEGIN:VEVENT
CLASS:PUBLIC
DTSTART:20240522T180000Z
DURATION:PT2H30M
STATUS:CONFIRMED
SUMMARY:TFC Devils Oldenburg 1 vs. KC Gehlenberg 2
DESCRIPTION:Verbandsliga Nord-West (9. Runde)\nErgebnis: 9:1 (9:1)
LOCATION:Trainingsraum der Devils Oldenburg, Abraham 13, 26122 Oldenburg
UID:SM-B8838@www.ntfv.de
PRIORITY:5
SEQUENCE:1
CATEGORIES:SPORT
DTSTAMP:20260421T211408
END:VEVENT
BEGIN:VEVENT
CLASS:PUBLIC
DTSTART:20240605T180000Z
DURATION:PT2H30M
STATUS:CONFIRMED
SUMMARY:TFC Devils Oldenburg 2 vs. TFC Devils Oldenburg 1
DESCRIPTION:Verbandsliga Nord-West (11. Runde)\nErgebnis: 7:9 (7:9)
LOCATION:Trainingsraum der Devils Oldenburg, Abraham 13, 26122 Oldenburg
UID:SM-B8844@www.ntfv.de
PRIORITY:5
SEQUENCE:1
CATEGORIES:SPORT
DTSTAMP:20260421T211408
END:VEVENT
BEGIN:VEVENT
CLASS:PUBLIC
DTSTART:20240613T180000Z
DURATION:PT2H30M
STATUS:CONFIRMED
SUMMARY:TFC Devils Oldenburg 1 vs. Liek ut Etzel
DESCRIPTION:Verbandsliga Nord-West (12. Runde)\nErgebnis: 9:5 (9:5)
LOCATION:Trainingsraum der Devils Oldenburg, Abraham 13, 26122 Oldenburg
UID:SM-B8846@www.ntfv.de
PRIORITY:5
SEQUENCE:1
CATEGORIES:SPORT
DTSTAMP:20260421T211408
END:VEVENT
BEGIN:VEVENT
CLASS:PUBLIC
DTSTART:20240626T180000Z
DURATION:PT2H30M
STATUS:CONFIRMED
SUMMARY:KCO Oldenburg 1 vs. TFC Devils Oldenburg 1
DESCRIPTION:Verbandsliga Nord-West (13. Runde)\nErgebnis: 2:9 (2:9)
LOCATION:Trainingsraum des KC Olympic Oldenburg, Bleicherstraße 12, 26122 Oldenburg
UID:SM-B8849@www.ntfv.de
PRIORITY:5
SEQUENCE:1
CATEGORIES:SPORT
DTSTAMP:20260421T211408
END:VEVENT
BEGIN:VEVENT
CLASS:PUBLIC
DTSTART:20240701T180000Z
DURATION:PT2H30M
STATUS:CONFIRMED
SUMMARY:TFC Devils Oldenburg 1 vs. KCO Oldenburg 2
DESCRIPTION:Verbandsliga Nord-West (14. Runde)\nErgebnis: 10:6 (10:6)
LOCATION:Trainingsraum der Devils Oldenburg, Abraham 13, 26122 Oldenburg
UID:SM-B8852@www.ntfv.de
PRIORITY:5
SEQUENCE:1
CATEGORIES:SPORT
DTSTAMP:20260421T211408
END:VEVENT
END:VCALENDAR
